BEGIN:VCALENDAR
VERSION:2.0
PRODID:-//hacksw/handcal//NONSGML v1.0//EN
BEGIN:VEVENT
SUMMARY:D3J16 : Broons Tremeur B - Plouer A
UID:51d7fcfb-5576-49c2-83f4-0788311df16a
DTSTART:20260406T130000Z
DTEND:20260406T150000Z
LOCATION:Localisation   
CATEGORIES:Sportif
STATUS:
URL;VALUE=URI:https://www.as-broons-tremeur-foot-22.com/evenements/2026/04/06/d3j16-broons-tremeur-b-plouer-a-2438926
END:VEVENT
END:VCALENDAR
